BEGIN:VCALENDAR
VERSION:2.0
PRODID:-//The Sustainable Backyard Network - ECPv6.15.20//NONSGML v1.0//EN
CALSCALE:GREGORIAN
METHOD:PUBLISH
X-ORIGINAL-URL:https://sustainablebackyard.org
X-WR-CALDESC:Events for The Sustainable Backyard Network
REFRESH-INTERVAL;VALUE=DURATION:PT1H
X-Robots-Tag:noindex
X-PUBLISHED-TTL:PT1H
BEGIN:VTIMEZONE
TZID:America/Chicago
BEGIN:DAYLIGHT
TZOFFSETFROM:-0600
TZOFFSETTO:-0500
TZNAME:CDT
DTSTART:20200308T080000
END:DAYLIGHT
BEGIN:STANDARD
TZOFFSETFROM:-0500
TZOFFSETTO:-0600
TZNAME:CST
DTSTART:20201101T070000
END:STANDARD
BEGIN:DAYLIGHT
TZOFFSETFROM:-0600
TZOFFSETTO:-0500
TZNAME:CDT
DTSTART:20210314T080000
END:DAYLIGHT
BEGIN:STANDARD
TZOFFSETFROM:-0500
TZOFFSETTO:-0600
TZNAME:CST
DTSTART:20211107T070000
END:STANDARD
BEGIN:DAYLIGHT
TZOFFSETFROM:-0600
TZOFFSETTO:-0500
TZNAME:CDT
DTSTART:20220313T080000
END:DAYLIGHT
BEGIN:STANDARD
TZOFFSETFROM:-0500
TZOFFSETTO:-0600
TZNAME:CST
DTSTART:20221106T070000
END:STANDARD
BEGIN:DAYLIGHT
TZOFFSETFROM:-0600
TZOFFSETTO:-0500
TZNAME:CDT
DTSTART:20230312T080000
END:DAYLIGHT
BEGIN:STANDARD
TZOFFSETFROM:-0500
TZOFFSETTO:-0600
TZNAME:CST
DTSTART:20231105T070000
END:STANDARD
BEGIN:DAYLIGHT
TZOFFSETFROM:-0600
TZOFFSETTO:-0500
TZNAME:CDT
DTSTART:20240310T080000
END:DAYLIGHT
BEGIN:STANDARD
TZOFFSETFROM:-0500
TZOFFSETTO:-0600
TZNAME:CST
DTSTART:20241103T070000
END:STANDARD
END:VTIMEZONE
BEGIN:VEVENT
DTSTART;VALUE=DATE:20230321
DTEND;VALUE=DATE:20230322
DTSTAMP:20260425T185002
CREATED:20230206T165323Z
LAST-MODIFIED:20230206T165323Z
UID:2105-1679356800-1679443199@sustainablebackyard.org
SUMMARY:World Water Day
DESCRIPTION:
URL:https://sustainablebackyard.org/event/world-water-day/
END:VEVENT
BEGIN:VEVENT
DTSTART;VALUE=DATE:20230321
DTEND;VALUE=DATE:20230322
DTSTAMP:20260425T185002
CREATED:20230206T165234Z
LAST-MODIFIED:20230206T165234Z
UID:2103-1679356800-1679443199@sustainablebackyard.org
SUMMARY:International Day Of Forests
DESCRIPTION:
URL:https://sustainablebackyard.org/event/international-day-of-forests/
END:VEVENT
BEGIN:VEVENT
DTSTART;TZID=America/Chicago:20230308T180000
DTEND;TZID=America/Chicago:20230308T200000
DTSTAMP:20260425T185002
CREATED:20230220T155008Z
LAST-MODIFIED:20230501T163655Z
UID:2219-1678298400-1678305600@sustainablebackyard.org
SUMMARY:Green Drinks
DESCRIPTION:Three Kings Public House\n6307 Delmar Blvd.\nUniversity City\, MO 63130\nGreen Drinks\nGreen Drinks is an international organization with more than 400 chapters around the world\, all dedicated to bringing people together to talk about environmental topics and sustainable living.  \nSt. Louis Green Drinks is currently managed by the Sustainable Backyard Network in partnership with earthday-365 and is held on the 2nd Wednesday of the month from 5 to 7 p.m. at a local Green Dining Alliance-certified establishment. The venue changes monthly– check our calendar for the location.  \nPlease join us for a bite or a drink of any kind\, and join the conversation!
URL:https://sustainablebackyard.org/event/green-drinks-6/
LOCATION:Three Kings Public House\, 6307 Delmar Blvd.\, University City\, MO\, 63130\, United States
CATEGORIES:Green Drinks
END:VEVENT
BEGIN:VEVENT
DTSTART;TZID=America/Chicago:20230304T103000
DTEND;TZID=America/Chicago:20230304T113000
DTSTAMP:20260425T185002
CREATED:20230220T154648Z
LAST-MODIFIED:20230220T154650Z
UID:2216-1677925800-1677929400@sustainablebackyard.org
SUMMARY:Garden Planning Q & A
DESCRIPTION:
URL:https://sustainablebackyard.org/event/garden-planning-q-a/
LOCATION:World Community Center\, 438 N. Skinker Blvd.\, St Louis\, MO\, 63130\, United States
END:VEVENT
BEGIN:VEVENT
DTSTART;TZID=America/Chicago:20230208T170000
DTEND;TZID=America/Chicago:20230208T190000
DTSTAMP:20260425T185002
CREATED:20230206T163022Z
LAST-MODIFIED:20230320T153517Z
UID:2093-1675875600-1675882800@sustainablebackyard.org
SUMMARY:Green Drinks
DESCRIPTION:GREEN DRINKS!\nFeb 8th\nWasabi Sushi Bar Cortex  \n4239 Duncan Ave\, St. Louis\, MO 63110
URL:https://sustainablebackyard.org/event/green-drinks-10/
LOCATION:Wasabi Sushi Bar Cortex\, 4239 Duncan Ave\, \,\, St. Louis\, MO\, 63110\, United States
CATEGORIES:Green Drinks
END:VEVENT
BEGIN:VEVENT
DTSTART;VALUE=DATE:20230202
DTEND;VALUE=DATE:20230203
DTSTAMP:20260425T185002
CREATED:20230203T194312Z
LAST-MODIFIED:20230203T194326Z
UID:2091-1675296000-1675382399@sustainablebackyard.org
SUMMARY:World Wetlands Day
DESCRIPTION:World Wetlands Day
URL:https://sustainablebackyard.org/event/world-wetlands-day/
END:VEVENT
BEGIN:VEVENT
DTSTART;TZID=America/Chicago:20230111T180000
DTEND;TZID=America/Chicago:20230111T200000
DTSTAMP:20260425T185002
CREATED:20221024T180221Z
LAST-MODIFIED:20221024T180221Z
UID:1966-1673460000-1673467200@sustainablebackyard.org
SUMMARY:Green Drinks
DESCRIPTION:Green Drinks!
URL:https://sustainablebackyard.org/event/green-drinks-4/
LOCATION:Urban Chestnut Brewing Company\, 4465 Manchester Ave\, SAINT LOUIS\, MO\, 63110\, United States
CATEGORIES:Green Drinks
END:VEVENT
BEGIN:VEVENT
DTSTART;TZID=America/Chicago:20221214T180000
DTEND;TZID=America/Chicago:20221214T200000
DTSTAMP:20260425T185002
CREATED:20221024T175842Z
LAST-MODIFIED:20221024T175958Z
UID:1961-1671040800-1671048000@sustainablebackyard.org
SUMMARY:Green Drinks
DESCRIPTION:Green Drinks!
URL:https://sustainablebackyard.org/event/green-drinks-3/
LOCATION:Gezellig\, 4191 Manchester Ave\, St. Louis\, 63110\, United States
CATEGORIES:Green Drinks
END:VEVENT
BEGIN:VEVENT
DTSTART;TZID=America/Chicago:20221112T100000
DTEND;TZID=America/Chicago:20221112T120000
DTSTAMP:20260425T185002
CREATED:20221024T174948Z
LAST-MODIFIED:20221024T175428Z
UID:1952-1668247200-1668254400@sustainablebackyard.org
SUMMARY:Got Abundance?
DESCRIPTION:Got Abundance?\nMaking the Most of Groceries With Local Food Writer Pat EBY
URL:https://sustainablebackyard.org/event/got-abundance/
LOCATION:Thomas Dunn Center For Learning\, 3113 Gasconade St\, St. Louis\, 36118\, United States
END:VEVENT
BEGIN:VEVENT
DTSTART;TZID=America/Chicago:20221109T060000
DTEND;TZID=America/Chicago:20221109T200000
DTSTAMP:20260425T185002
CREATED:20221024T175220Z
LAST-MODIFIED:20221024T175721Z
UID:1956-1667973600-1668024000@sustainablebackyard.org
SUMMARY:Green Drinks
DESCRIPTION:Green Drinks!
URL:https://sustainablebackyard.org/event/green-drinks-2/
LOCATION:The Blue Duck\, 2661 Sutton Blvd\, Maplewood\, 63143\, United States
CATEGORIES:Green Drinks
END:VEVENT
BEGIN:VEVENT
DTSTART;TZID=America/Chicago:20220910T160000
DTEND;TZID=America/Chicago:20220910T170000
DTSTAMP:20260425T185002
CREATED:20220830T145906Z
LAST-MODIFIED:20220830T145906Z
UID:1944-1662825600-1662829200@sustainablebackyard.org
SUMMARY:Home Composting
DESCRIPTION:Home Composting \nWith Crystal Stevens of Tend and Flourish School of Botanicals and author of Worms at Work \nSaturday\, September 10\, 2022 at Rustic Roots Sanctuary \n11735 Eckert Lane in Spanish Lake \nFREE!
URL:https://sustainablebackyard.org/event/home-composting/
ATTACH;FMTTYPE=image/jpeg:https://sustainablebackyard.org/wp-content/uploads/2022/08/SBNComposting_.jpg
END:VEVENT
BEGIN:VEVENT
DTSTART;TZID=America/Chicago:20220816T180000
DTEND;TZID=America/Chicago:20220816T200000
DTSTAMP:20260425T185002
CREATED:20220801T205729Z
LAST-MODIFIED:20220801T211422Z
UID:1869-1660672800-1660680000@sustainablebackyard.org
SUMMARY:Green Drinks : August
DESCRIPTION:Join us for conversation and explore opportunities to get involved with the Sustainable Backyard Tour and Network! Learn about future events\, the new Gleaning Team and experience life inside a container! Conveniently situated near the entrance to The Grove in the Forest Park Southeast neighborhood\, Rockwell Beer’s flagship location is a series of modified shipping containers housing a 15-barrel brewhouse and tasting room\, plus vittles from brassWELL by Niche! \n\n\nRockwell Beer Company\n1320 S. Vandeventer Ave.\nSt. Louis\, MO 63110\n314-256-1657
URL:https://sustainablebackyard.org/event/green-drinks-august-22/
LOCATION:Rockwell Beer Company\, 1320 S. Vandeventer Ave.\, St. Louis\, MO\, 63110\, United States
END:VEVENT
BEGIN:VEVENT
DTSTART;TZID=America/Chicago:20220626T110000
DTEND;TZID=America/Chicago:20220626T160000
DTSTAMP:20260425T185002
CREATED:20210319T164044Z
LAST-MODIFIED:20220511T182825Z
UID:1448-1656241200-1656259200@sustainablebackyard.org
SUMMARY:Sustainable Backyard Tour 2022
DESCRIPTION:Sustainable Backyard Tour 2022\nLive and In-Person!\nSunday\, June 26\, 2022\n11 a.m. to 4 p.m.\n The Sustainable Backyard Tour is a free\, open-yards-style tour of eco-friendly spaces throughout St. Louis and St. Charles. Get tips and ideas for living more sustainably on a warming planet\, like organic gardening\, beekeeping\, stormwater management\, renewable energy and more.  \nDon’t miss this chance to see first hand how others have integrated sustainable living practices into their yards and learn what you need to know to go green!  \n\nRegister to Attend 
URL:https://sustainablebackyard.org/event/sustainable-backyard-tour-2022/
END:VEVENT
BEGIN:VEVENT
DTSTART;TZID=America/Chicago:20220517T183000
DTEND;TZID=America/Chicago:20220517T203000
DTSTAMP:20260425T185002
CREATED:20220511T182912Z
LAST-MODIFIED:20220512T141210Z
UID:1507-1652812200-1652819400@sustainablebackyard.org
SUMMARY:Green Drinks
DESCRIPTION:Green Drinks. Join us at Seamus McDaniels Pub in Dogtown for an evening of conversation from 6:00 to 8:00 p.m  in the back room!
URL:https://sustainablebackyard.org/event/green-drinks/
CATEGORIES:Green Drinks
END:VEVENT
BEGIN:VEVENT
DTSTART;TZID=America/Chicago:20211214T190000
DTEND;TZID=America/Chicago:20211214T210000
DTSTAMP:20260425T185002
CREATED:20210319T164044Z
LAST-MODIFIED:20210319T193959Z
UID:1250-1639508400-1639515600@sustainablebackyard.org
SUMMARY:Green Drinks- December
DESCRIPTION:Join us December 14th from 7-9pm for an informational evening. We will discuss a green topic\, followed by questions and conversation. Can’t wait to see you there. \nJoin Zoom Meeting\nhttps://us02web.zoom.us/j/83860896527?pwd=a2p2Q3dJRzNEcmFoK2d1YzZpaVZ0dz09 \n  \n  \n  \n  \nGreen Drinks is an open\, freeform (and always free) meeting of people concerned about environmental issues. Green Drinks is a worldwide organization but is run independently at the local level. So\, let us be the first to welcome you to St. Louis Green Drinks! \nTypically\, there is no agenda for Green Drinks. But to smooth over the transition to a virtual format\, we will have a short expert presenter each month to break the ice\, followed by freeform discussion. Come as you are and join us on the second Tuesday of each month. Grab a drink or your favorite snack and let’s connect.
URL:https://sustainablebackyard.org/event/green-drinks-december/
LOCATION:Zoom
CATEGORIES:Green Drinks
END:VEVENT
BEGIN:VEVENT
DTSTART;TZID=America/Chicago:20211109T190000
DTEND;TZID=America/Chicago:20211109T210000
DTSTAMP:20260425T185002
CREATED:20210319T164044Z
LAST-MODIFIED:20210319T193608Z
UID:1272-1636484400-1636491600@sustainablebackyard.org
SUMMARY:Green Drinks- November
DESCRIPTION:Join us November 9th from 7-9pm for an informational evening. We will discuss a green topic\, followed by questions and conversation. Can’t wait to see you there. \nJoin Zoom Meeting\nhttps://us02web.zoom.us/j/83860896527?pwd=a2p2Q3dJRzNEcmFoK2d1YzZpaVZ0dz09 \n  \n  \n  \n  \nGreen Drinks is an open\, freeform (and always free) meeting of people concerned about environmental issues. Green Drinks is a worldwide organization but is run independently at the local level. So\, let us be the first to welcome you to St. Louis Green Drinks! \nTypically\, there is no agenda for Green Drinks. But to smooth over the transition to a virtual format\, we will have a short expert presenter each month to break the ice\, followed by freeform discussion. Come as you are and join us on the second Tuesday of each month. Grab a drink or your favorite snack and let’s connect.
URL:https://sustainablebackyard.org/event/green-drinks-november/
LOCATION:Zoom
CATEGORIES:Green Drinks
END:VEVENT
BEGIN:VEVENT
DTSTART;TZID=America/Chicago:20211012T190000
DTEND;TZID=America/Chicago:20211012T210000
DTSTAMP:20260425T185002
CREATED:20210319T164044Z
LAST-MODIFIED:20210319T194041Z
UID:1271-1634065200-1634072400@sustainablebackyard.org
SUMMARY:Green Drinks- October
DESCRIPTION:Join us October 12th from 7-9pm for an informational evening. We will discuss a green topic\, followed by questions and conversation. Can’t wait to see you there. \nJoin Zoom Meeting\nhttps://us02web.zoom.us/j/83860896527?pwd=a2p2Q3dJRzNEcmFoK2d1YzZpaVZ0dz09 \n  \n  \n  \n  \nGreen Drinks is an open\, freeform (and always free) meeting of people concerned about environmental issues. Green Drinks is a worldwide organization but is run independently at the local level. So\, let us be the first to welcome you to St. Louis Green Drinks! \nTypically\, there is no agenda for Green Drinks. But to smooth over the transition to a virtual format\, we will have a short expert presenter each month to break the ice\, followed by freeform discussion. Come as you are and join us on the second Tuesday of each month. Grab a drink or your favorite snack and let’s connect.
URL:https://sustainablebackyard.org/event/green-drinks-october/
LOCATION:Zoom
CATEGORIES:Green Drinks
END:VEVENT
BEGIN:VEVENT
DTSTART;TZID=America/Chicago:20210914T190000
DTEND;TZID=America/Chicago:20210914T210000
DTSTAMP:20260425T185002
CREATED:20210319T164044Z
LAST-MODIFIED:20210319T193047Z
UID:1249-1631646000-1631653200@sustainablebackyard.org
SUMMARY:Green Drinks- September
DESCRIPTION:Join us September 14th from 7-9pm for an informational evening. We will discuss a green topic\, followed by questions and conversation. Can’t wait to see you there. \nJoin Zoom Meeting\nhttps://us02web.zoom.us/j/83860896527?pwd=a2p2Q3dJRzNEcmFoK2d1YzZpaVZ0dz09 \n  \n  \n  \n  \nGreen Drinks is an open\, freeform (and always free) meeting of people concerned about environmental issues. Green Drinks is a worldwide organization but is run independently at the local level. So\, let us be the first to welcome you to St. Louis Green Drinks! \nTypically\, there is no agenda for Green Drinks. But to smooth over the transition to a virtual format\, we will have a short expert presenter each month to break the ice\, followed by freeform discussion. Come as you are and join us on the second Tuesday of each month. Grab a drink or your favorite snack and let’s connect.
URL:https://sustainablebackyard.org/event/green-drinks-september/
LOCATION:Zoom
CATEGORIES:Green Drinks
END:VEVENT
BEGIN:VEVENT
DTSTART;TZID=America/Chicago:20210810T190000
DTEND;TZID=America/Chicago:20210810T210000
DTSTAMP:20260425T185002
CREATED:20210310T174044Z
LAST-MODIFIED:20210319T192925Z
UID:1252-1628622000-1628629200@sustainablebackyard.org
SUMMARY:Green Drinks- August
DESCRIPTION:Join us August 10th from 7-9pm for an informational evening. We will discuss a green topic\, followed by questions and conversation. Can’t wait to see you there. \nJoin Zoom Meeting\nhttps://us02web.zoom.us/j/83860896527?pwd=a2p2Q3dJRzNEcmFoK2d1YzZpaVZ0dz09 \n  \n  \n  \n  \nGreen Drinks is an open\, freeform (and always free) meeting of people concerned about environmental issues. Green Drinks is a worldwide organization but is run independently at the local level. So\, let us be the first to welcome you to St. Louis Green Drinks! \nTypically\, there is no agenda for Green Drinks. But to smooth over the transition to a virtual format\, we will have a short expert presenter each month to break the ice\, followed by freeform discussion. Come as you are and join us on the second Tuesday of each month. Grab a drink or your favorite snack and let’s connect.
URL:https://sustainablebackyard.org/event/green-drinks-august/
LOCATION:Zoom
END:VEVENT
BEGIN:VEVENT
DTSTART;TZID=America/Chicago:20210713T190000
DTEND;TZID=America/Chicago:20210713T210000
DTSTAMP:20260425T185002
CREATED:20210313T174044Z
LAST-MODIFIED:20210319T193407Z
UID:1253-1626202800-1626210000@sustainablebackyard.org
SUMMARY:Green Drinks- July
DESCRIPTION:Join us July 13th from 7-9pm for an informational evening. We will discuss a green topic\, followed by questions and conversation. Can’t wait to see you there. \nJoin Zoom Meeting\nhttps://us02web.zoom.us/j/83860896527?pwd=a2p2Q3dJRzNEcmFoK2d1YzZpaVZ0dz09 \n  \n  \n  \n  \nGreen Drinks is an open\, freeform (and always free) meeting of people concerned about environmental issues. Green Drinks is a worldwide organization but is run independently at the local level. So\, let us be the first to welcome you to St. Louis Green Drinks! \nTypically\, there is no agenda for Green Drinks. But to smooth over the transition to a virtual format\, we will have a short expert presenter each month to break the ice\, followed by freeform discussion. Come as you are and join us on the second Tuesday of each month. Grab a drink or your favorite snack and let’s connect.
URL:https://sustainablebackyard.org/event/green-drinks-july/
LOCATION:Zoom
CATEGORIES:Green Drinks
END:VEVENT
BEGIN:VEVENT
DTSTART;TZID=America/Chicago:20210711T110000
DTEND;TZID=America/Chicago:20210711T160000
DTSTAMP:20260425T185002
CREATED:20210331T205724Z
LAST-MODIFIED:20210331T205724Z
UID:1326-1626001200-1626019200@sustainablebackyard.org
SUMMARY:The Virtual Tour
DESCRIPTION:The Sustainable Backyard Tour will return for its 10th year on July 11th as a series of videos premiering on our YouTube channel The Sustainable Backyard. \nNow\, the days of crowded yards full of perspiring aspiring gardeners seems like a distant memory. The last in-person tour was held on June 23\, 2019 in more than 40 yards throughout the region. \nThis year\, through the magic of video\, July 11th will be a day of lemonade and lawn chairs chez you. Distantly but together\, we can watch yard tour videos and chat with hosts via social media\, all from the safety of our own computers. \nWe hope you’ll join in for a stellar lineup of exciting new and award-winning yards on July 11th! Register here to get the link to the videos and conversation: https://sustainablebackyard.org/attend-tour/ \nA big thank you to our hosts and sponsors: The William A. Kerr Foundation\, St. Louis Jefferson Solid Waste Management District\, Cackle Hatchery\, Art & Architecture\, Custom Foodscaping\, Greenscape Gardens and Dr. Bronner’s Magic Soaps.
URL:https://sustainablebackyard.org/event/the-virtual-tour/
END:VEVENT
BEGIN:VEVENT
DTSTART;TZID=America/Chicago:20210608T190000
DTEND;TZID=America/Chicago:20210608T210000
DTSTAMP:20260425T185002
CREATED:20210319T164044Z
LAST-MODIFIED:20210319T193330Z
UID:1254-1623178800-1623186000@sustainablebackyard.org
SUMMARY:Green Drinks- June
DESCRIPTION:Join us June 8th from 7-9pm for an informational evening. We will discuss a green topic\, followed by questions and conversation. Can’t wait to see you there. \nJoin Zoom Meeting\nhttps://us02web.zoom.us/j/83860896527?pwd=a2p2Q3dJRzNEcmFoK2d1YzZpaVZ0dz09 \n  \n  \n  \n  \nGreen Drinks is an open\, freeform (and always free) meeting of people concerned about environmental issues. Green Drinks is a worldwide organization but is run independently at the local level. So\, let us be the first to welcome you to St. Louis Green Drinks! \nTypically\, there is no agenda for Green Drinks. But to smooth over the transition to a virtual format\, we will have a short expert presenter each month to break the ice\, followed by freeform discussion. Come as you are and join us on the second Tuesday of each month. Grab a drink or your favorite snack and let’s connect.
URL:https://sustainablebackyard.org/event/green-drinks-june/
LOCATION:Zoom
CATEGORIES:Green Drinks
END:VEVENT
BEGIN:VEVENT
DTSTART;TZID=America/Chicago:20210511T190000
DTEND;TZID=America/Chicago:20210511T210000
DTSTAMP:20260425T185002
CREATED:20210310T174044Z
LAST-MODIFIED:20210319T192429Z
UID:1236-1620759600-1620766800@sustainablebackyard.org
SUMMARY:Green Drinks- May
DESCRIPTION:Join us May 11th from 7-9pm for an informational evening. We will discuss a green topic\, followed by questions and conversation. Can’t wait to see you there. \nJoin Zoom Meeting\nhttps://us02web.zoom.us/j/83860896527?pwd=a2p2Q3dJRzNEcmFoK2d1YzZpaVZ0dz09 \n  \n  \n  \n  \nGreen Drinks is an open\, freeform (and always free) meeting of people concerned about environmental issues. Green Drinks is a worldwide organization but is run independently at the local level. So\, let us be the first to welcome you to St. Louis Green Drinks! \nTypically\, there is no agenda for Green Drinks. But to smooth over the transition to a virtual format\, we will have a short expert presenter each month to break the ice\, followed by freeform discussion. Come as you are and join us on the second Tuesday of each month. Grab a drink or your favorite snack and let’s connect.
URL:https://sustainablebackyard.org/event/green-drinks-may/
LOCATION:Zoom
CATEGORIES:Green Drinks
END:VEVENT
BEGIN:VEVENT
DTSTART;TZID=America/Chicago:20210415T180000
DTEND;TZID=America/Chicago:20210415T200000
DTSTAMP:20260425T185002
CREATED:20210131T000609Z
LAST-MODIFIED:20210209T223250Z
UID:1191-1618509600-1618516800@sustainablebackyard.org
SUMMARY:Media Review Gathering: April
DESCRIPTION:The Media Review makes use of the easy-to-operate Zoom platform to share inspiring and enjoyable books\, articles\, videos and more about sustainable living. The conversations are moderated by Network members Suzanne Carron\, Toni Easter and Patty Carleton. If you’ve read or watched something that you want to share about gardening\, renewable energy\, cooking\, chickens\, bees\, nature\, conservation\, permaculture\, or resilience\, join us online! \nThis event is held every month on the third Thursday of each month.Join Zoom Meeting\nhttps://us02web.zoom.us/j/85155305767?pwd=KzBrdHhHTENkcGhZdjV1R1JQVmdIUT09
URL:https://sustainablebackyard.org/event/media-review-gathering-april/
END:VEVENT
BEGIN:VEVENT
DTSTART;TZID=America/Chicago:20210413T190000
DTEND;TZID=America/Chicago:20210413T210000
DTSTAMP:20260425T185002
CREATED:20210310T174044Z
LAST-MODIFIED:20210310T174044Z
UID:1229-1618340400-1618347600@sustainablebackyard.org
SUMMARY:Green Drinks- April
DESCRIPTION:Join us April 13th from 7-9pm for an informational evening with Kim Rutledge\, head of Missouri Wildlife Rescue\, followed by questions and conversation. Can’t wait to see you there. \nJoin Zoom Meeting\nhttps://us02web.zoom.us/j/83860896527?pwd=a2p2Q3dJRzNEcmFoK2d1YzZpaVZ0dz09 \n  \n  \n  \n  \nGreen Drinks is an open\, freeform (and always free) meeting of people concerned about environmental issues. Green Drinks is a worldwide organization but is run independently at the local level. So\, let us be the first to welcome you to St. Louis Green Drinks! \nTypically\, there is no agenda for Green Drinks. But to smooth over the transition to a virtual format\, we will have a short expert presenter each month to break the ice\, followed by freeform discussion. Come as you are and join us on the second Tuesday of each month. Grab a drink or your favorite snack and let’s connect.
URL:https://sustainablebackyard.org/event/green-drinks-april/
LOCATION:Zoom
END:VEVENT
BEGIN:VEVENT
DTSTART;TZID=America/Chicago:20210318T180000
DTEND;TZID=America/Chicago:20210318T200000
DTSTAMP:20260425T185002
CREATED:20210130T235449Z
LAST-MODIFIED:20210209T223335Z
UID:1185-1616090400-1616097600@sustainablebackyard.org
SUMMARY:Media Review Gathering: March
DESCRIPTION:The Media Review makes use of the easy-to-operate Zoom platform to share inspiring and enjoyable books\, articles\, videos and more about sustainable living. The conversations are moderated by Network members Suzanne Carron\, Toni Easter and Patty Carleton. If you’ve read or watched something that you want to share about gardening\, renewable energy\, cooking\, chickens\, bees\, nature\, conservation\, permaculture\, or resilience\, join us online! \nThis event is held every month on the third Thursday of each month. \nJoin Zoom Meeting\nhttps://us02web.zoom.us/j/85155305767?pwd=KzBrdHhHTENkcGhZdjV1R1JQVmdIUT09
URL:https://sustainablebackyard.org/event/media-review-gathering-march/
CATEGORIES:Media Review
END:VEVENT
BEGIN:VEVENT
DTSTART;TZID=America/Chicago:20210218T180000
DTEND;TZID=America/Chicago:20210218T200000
DTSTAMP:20260425T185002
CREATED:20210130T234400Z
LAST-MODIFIED:20210209T223527Z
UID:1180-1613671200-1613678400@sustainablebackyard.org
SUMMARY:Media Review Gathering: February
DESCRIPTION:The Media Review makes use of the easy-to-operate Zoom platform to share inspiring and enjoyable books\, articles\, videos and more about sustainable living. The conversations are moderated by Network members Suzanne Carron\, Toni Easter and Patty Carleton. If you’ve read or watched something that you want to share about gardening\, renewable energy\, cooking\, chickens\, bees\, nature\, conservation\, permaculture\, or resilience\, join us online! \nThis event is held every month on the third Thursday of each month.Join Zoom Meeting\nhttps://us02web.zoom.us/j/85155305767?pwd=KzBrdHhHTENkcGhZdjV1R1JQVmdIUT09
URL:https://sustainablebackyard.org/event/media-review-gathering-february/
LOCATION:Zoom
CATEGORIES:Media Review
END:VEVENT
BEGIN:VEVENT
DTSTART;TZID=America/Chicago:20210209T190000
DTEND;TZID=America/Chicago:20210209T210000
DTSTAMP:20260425T185002
CREATED:20210209T224119Z
LAST-MODIFIED:20210209T224319Z
UID:1219-1612897200-1612904400@sustainablebackyard.org
SUMMARY:Green Drinks: Starter Seeds
DESCRIPTION:Join us February 9th from 7-9pm for an informational evening about starting your seeds. We will have Linda Lafeirre and Sam Padilla\, two seed starting experts\, present on the basics of growing your own seed starts\, followed by questions and conversation. Can’t wait to see you there. \nZoom Link: \nhttps://us02web.zoom.us/j/83762284678?pwd=akhDNGRKazZFWHJCMWlmYzVOZzd0dz09 \n  \n  \n  \nAbout Green Drinks \nGreen Drinks is an open\, freeform (and always free) meeting of people concerned about environmental issues. Green Drinks is a worldwide organization but is run independently at the local level. So\, let us be the first to welcome you to St. Louis Green Drinks! \nTypically\, there is no agenda for Green Drinks. But to smooth over the transition to a virtual format\, we will have a short expert presenter each month to break the ice\, followed by freeform discussion. Come as you are and join us on the second Tuesday of each month. Grab a drink or your favorite snack and let’s connect.
URL:https://sustainablebackyard.org/event/green-drinks-starter-seeds/
END:VEVENT
END:VCALENDAR