BEGIN:VCALENDAR
VERSION:2.0
PRODID:-//The Sustainable Backyard Network - ECPv6.15.20//NONSGML v1.0//EN
CALSCALE:GREGORIAN
METHOD:PUBLISH
X-WR-CALNAME:The Sustainable Backyard Network
X-ORIGINAL-URL:https://sustainablebackyard.org
X-WR-CALDESC:Events for The Sustainable Backyard Network
REFRESH-INTERVAL;VALUE=DURATION:PT1H
X-Robots-Tag:noindex
X-PUBLISHED-TTL:PT1H
BEGIN:VTIMEZONE
TZID:America/Chicago
BEGIN:DAYLIGHT
TZOFFSETFROM:-0600
TZOFFSETTO:-0500
TZNAME:CDT
DTSTART:20230312T080000
END:DAYLIGHT
BEGIN:STANDARD
TZOFFSETFROM:-0500
TZOFFSETTO:-0600
TZNAME:CST
DTSTART:20231105T070000
END:STANDARD
BEGIN:DAYLIGHT
TZOFFSETFROM:-0600
TZOFFSETTO:-0500
TZNAME:CDT
DTSTART:20240310T080000
END:DAYLIGHT
BEGIN:STANDARD
TZOFFSETFROM:-0500
TZOFFSETTO:-0600
TZNAME:CST
DTSTART:20241103T070000
END:STANDARD
BEGIN:DAYLIGHT
TZOFFSETFROM:-0600
TZOFFSETTO:-0500
TZNAME:CDT
DTSTART:20250309T080000
END:DAYLIGHT
BEGIN:STANDARD
TZOFFSETFROM:-0500
TZOFFSETTO:-0600
TZNAME:CST
DTSTART:20251102T070000
END:STANDARD
END:VTIMEZONE
BEGIN:VEVENT
DTSTART;VALUE=DATE:20240310
DTEND;VALUE=DATE:20240311
DTSTAMP:20260425T164032
CREATED:20240221T223235Z
LAST-MODIFIED:20240222T161616Z
UID:3149-1710028800-1710115199@sustainablebackyard.org
SUMMARY:Volunteer and Host Kickoff for the 2024 Sustainable Backyard Tour
DESCRIPTION:Whether you’ve hosted or volunteered for the tour in the past or are only starting to think about it\, we hope you’ll join us for this year’s kickoff! \nCome learn more about volunteer roles\, what it means to be a host yard\, and get to know the people who produce the annual Sustainable Backyard Tour. We hope to see you there! \nTime and other details are to be announced\, so be sure to check back here\, or\, even better\, sign up for our newsletter to get the latest information on this event and more.
URL:https://sustainablebackyard.org/event/volunteer-and-host-kickoff-for-the-sustainable-backyard-tour/
LOCATION:Greenscape Gardens\, 2832 Barrett Station Rd\, Manchester\, MO\, 63021\, United States
CATEGORIES:Volunteer Meetup
END:VEVENT
END:VCALENDAR