BEGIN:VCALENDAR
VERSION:2.0
PRODID:-//The Sustainable Backyard Network - ECPv6.15.20//NONSGML v1.0//EN
CALSCALE:GREGORIAN
METHOD:PUBLISH
X-ORIGINAL-URL:https://sustainablebackyard.org
X-WR-CALDESC:Events for The Sustainable Backyard Network
REFRESH-INTERVAL;VALUE=DURATION:PT1H
X-Robots-Tag:noindex
X-PUBLISHED-TTL:PT1H
BEGIN:VTIMEZONE
TZID:America/Chicago
BEGIN:DAYLIGHT
TZOFFSETFROM:-0600
TZOFFSETTO:-0500
TZNAME:CDT
DTSTART:20230312T080000
END:DAYLIGHT
BEGIN:STANDARD
TZOFFSETFROM:-0500
TZOFFSETTO:-0600
TZNAME:CST
DTSTART:20231105T070000
END:STANDARD
BEGIN:DAYLIGHT
TZOFFSETFROM:-0600
TZOFFSETTO:-0500
TZNAME:CDT
DTSTART:20240310T080000
END:DAYLIGHT
BEGIN:STANDARD
TZOFFSETFROM:-0500
TZOFFSETTO:-0600
TZNAME:CST
DTSTART:20241103T070000
END:STANDARD
BEGIN:DAYLIGHT
TZOFFSETFROM:-0600
TZOFFSETTO:-0500
TZNAME:CDT
DTSTART:20250309T080000
END:DAYLIGHT
BEGIN:STANDARD
TZOFFSETFROM:-0500
TZOFFSETTO:-0600
TZNAME:CST
DTSTART:20251102T070000
END:STANDARD
END:VTIMEZONE
BEGIN:VEVENT
DTSTART;VALUE=DATE:20240323
DTEND;VALUE=DATE:20240324
DTSTAMP:20260425T151306
CREATED:20240221T223631Z
LAST-MODIFIED:20240308T155052Z
UID:3154-1711152000-1711238399@sustainablebackyard.org
SUMMARY:Herbicide Alternatives Hands-on Class
DESCRIPTION:Come on out to a beautiful site overlooking the Missouri River to learn about how to identify and remove bush honeysuckle plants and to generally discuss herbicide alternatives. Learn the latest thinking on the proliferation of unwanted plants in the landscape and explore what you can do to control or eliminate them in your yard without using systemic and persistent poisons. \nThe eminent Jay Doty\, PLA\, of Applied Conservation LLC\, will demonstrate root docking on bush honeysuckle. During the course of the event\, we’ll discuss the various issues\, opportunities and challenges of eradicating too-persistant plants like multifloral rose and others you may not even realize are considered invasive. \nCome prepared to get your hands dirty while you try out new tools like the Pullerbear\, the Rogue Hoe and the Beast! Class is limited to 20 participants. Register on Eventbrite now!
URL:https://sustainablebackyard.org/event/herbicide-alternatives-hands-on-course/
LOCATION:MO
CATEGORIES:Class
END:VEVENT
BEGIN:VEVENT
DTSTART;TZID=America/Chicago:20240224T101500
DTEND;TZID=America/Chicago:20240224T111500
DTSTAMP:20260425T151306
CREATED:20240221T224425Z
LAST-MODIFIED:20240222T153048Z
UID:3156-1708769700-1708773300@sustainablebackyard.org
SUMMARY:Seed Starting and Bed Prep Class
DESCRIPTION:Dreaming of spring and starting your kitchen garden? Then come on out to our seed starting class with our dynamic and knowledgeable SByN board member Sam Padilla. \nLearn when\, why and how to start seeds indoors so your veggies\, herbs and flowers have the best chances outside in the ground when the weather is right! \nWhich seeds are best for direct sowing outside? Which need stratification or a heat mat to start? Sam will also cover spring bed preparation and share her recipe for making your own organic fertilizer. \nIf you have a seed collection\, feel free to bring extras you’d like to share with fellow students. Bring your questions! Class starts at 10:15. Library opens at 10:00. \nNote: Kingshighway Library is a lovely neighborhood branch of the St. Louis Public Library\, and it has about ten dedicated parking spots in its lot. If you’re up for a short walk\, consider using street parking on Shenandoah or Maury Ave. \nNo RSVP necessary. See you then! \n \nPS: Here’s the class’s Instagram post. We’d love if you could share with your followers!
URL:https://sustainablebackyard.org/event/seed-starting-and-bed-prep-class/
LOCATION:Kingshighway Public Library\, 2260 South Vandeventer Avenue\, St. Louis\, MO\, 63110\, United States
CATEGORIES:Class
END:VEVENT
END:VCALENDAR